BEGIN:VCALENDAR
VERSION:2.0
PRODID:-//InvisionCommunity Events 5.0.18//EN
METHOD:PUBLISH
CALSCALE:GREGORIAN
REFRESH-INTERVAL:PT15M
X-PUBLISHED-TTL:PT15M
X-WR-CALNAME:Forumskalender
NAME:Forumskalender
BEGIN:VTIMEZONE
TZID:Europe/London
TZURL:https://tzurl.org/zoneinfo/Europe/London
X-LIC-LOCATION:Europe/London
BEGIN:DAYLIGHT
TZOFFSETFROM:+0000
TZOFFSETTO:+0100
TZNAME:BST
DTSTART:20060326T020000Z
RRULE:FREQ=YEARLY;BYMONTH=3;BYDAY=-1SU
END:DAYLIGHT
BEGIN:STANDARD
TZOFFSETFROM:+0100
TZOFFSETTO:+0000
TZNAME:GMT
DTSTART:20061029T020000Z
RRULE:FREQ=YEARLY;BYMONTH=10;BYDAY=-1SU
END:STANDARD
END:VTIMEZONE
BEGIN:VEVENT
SUMMARY:Earthdawn Convention\, Braunschweig
DTSTAMP:20060202T111904Z
SEQUENCE:0
UID:91-2-9314b47507304f198fc700a86d7cbc78@www.midgard-forum.de
ORGANIZER;CN="Bruder Buck":no-reply@midgard-forum.de
DESCRIPTION:\nEarthdawn Convention 2006\n22.09. - 24.09.06\nBraunschweig
	\n \nWeitere Informationen gibt es unter www.earthdawn-con.de.vu\n
DTSTART:20060922T140000Z
DTEND:20060924T140000Z
END:VEVENT
END:VCALENDAR
