BEGIN:VCALENDAR
VERSION:2.0
PRODID:-//InvisionCommunity Events 5.0.18//EN
METHOD:PUBLISH
CALSCALE:GREGORIAN
REFRESH-INTERVAL:PT15M
X-PUBLISHED-TTL:PT15M
X-WR-CALNAME:Forumskalender
NAME:Forumskalender
BEGIN:VTIMEZONE
TZID:Europe/London
TZURL:https://tzurl.org/zoneinfo/Europe/London
X-LIC-LOCATION:Europe/London
BEGIN:DAYLIGHT
TZOFFSETFROM:+0000
TZOFFSETTO:+0100
TZNAME:BST
DTSTART:20070325T020000Z
RRULE:FREQ=YEARLY;BYMONTH=3;BYDAY=-1SU
END:DAYLIGHT
BEGIN:STANDARD
TZOFFSETFROM:+0100
TZOFFSETTO:+0000
TZNAME:GMT
DTSTART:20071028T020000Z
RRULE:FREQ=YEARLY;BYMONTH=10;BYDAY=-1SU
END:STANDARD
END:VTIMEZONE
BEGIN:VEVENT
SUMMARY:Hannover spielt! 14
DTSTAMP:20070114T170118Z
SEQUENCE:0
UID:168-2-9314b47507304f198fc700a86d7cbc78@www.midgard-forum.de
ORGANIZER;CN="Detritus":no-reply@midgard-forum.de
DESCRIPTION:\nDie 14. Auflage der bekannten Convention.\n \nNäheres fi
	ndet ihr hier: Hannover spielt!\n
DTSTART:20070331T090000Z
DTEND:20070401T170000Z
END:VEVENT
END:VCALENDAR
