BEGIN:VCALENDAR
VERSION:2.0
PRODID:-//InvisionCommunity Events 5.0.18//EN
METHOD:PUBLISH
CALSCALE:GREGORIAN
REFRESH-INTERVAL:PT15M
X-PUBLISHED-TTL:PT15M
X-WR-CALNAME:Forumskalender
NAME:Forumskalender
BEGIN:VTIMEZONE
TZID:Europe/London
TZURL:https://tzurl.org/zoneinfo/Europe/London
X-LIC-LOCATION:Europe/London
BEGIN:DAYLIGHT
TZOFFSETFROM:+0000
TZOFFSETTO:+0100
TZNAME:BST
DTSTART:20060326T020000Z
RRULE:FREQ=YEARLY;BYMONTH=3;BYDAY=-1SU
END:DAYLIGHT
BEGIN:STANDARD
TZOFFSETFROM:+0100
TZOFFSETTO:+0000
TZNAME:GMT
DTSTART:20061029T020000Z
RRULE:FREQ=YEARLY;BYMONTH=10;BYDAY=-1SU
END:STANDARD
END:VTIMEZONE
BEGIN:VEVENT
SUMMARY:KH-Con Zwo
DTSTAMP:20060513T115110Z
SEQUENCE:0
UID:107-2-9314b47507304f198fc700a86d7cbc78@www.midgard-forum.de
ORGANIZER;CN="Fimolas":no-reply@midgard-forum.de
DESCRIPTION:Nähere Informationen findet Ihr hier: KH-Con Zwo\, 9./10.9.
	2006
DTSTART:20060909T080000Z
DTEND:20060910T170000Z
END:VEVENT
END:VCALENDAR
